BEGIN:VCALENDAR
VERSION:2.0
PRODID:-//Tukios.com/
BEGIN:VEVENT
UID:604c6740-62ea-4a95-99e1-46f7199a15e5@www.ridgewayfh.com
DTSTAMP:20260425T230322Z
DTSTART:20260428T163000Z
DTEND:20260428T173000Z
SUMMARY:Funeral Service
DESCRIPTION:
URL:https://www.ridgewayfh.com/obituaries/roberta-cribb
LOCATION:First Baptist Church 219 Cleland Street  Georgetown SC 29440
GEO:33.3712577;-79.2870687
END:VEVENT
END:VCALENDAR