BEGIN:VCALENDAR
VERSION:2.0
PRODID:-//Tukios.com/
BEGIN:VEVENT
UID:97e2eaee-9751-4eb6-acbf-ce7c7e883cce@www.ridgewayfh.com
DTSTAMP:20260425T230035Z
DTSTART:20260428T153000Z
DTEND:20260428T163000Z
SUMMARY:Visitation
DESCRIPTION:
URL:https://www.ridgewayfh.com/obituaries/roberta-cribb
LOCATION:First Baptist Church 219 Cleland Street  Georgetown SC 29440
GEO:33.3712577;-79.2870687
END:VEVENT
END:VCALENDAR