BEGIN:VCALENDAR
VERSION:2.0
PRODID:-//Tukios.com/
BEGIN:VEVENT
UID:f29dffdd-6624-4484-a5f9-0bdfe95128ba@www.ridgewayfh.com
DTSTAMP:20260423T223124Z
DTSTART:20260426T210000Z
DTEND:20260426T220000Z
SUMMARY:Visitation
DESCRIPTION:
URL:https://www.ridgewayfh.com/obituaries/mark-harrelson
LOCATION:Trinity Lutheran Church 1605 South Fraser Street  Georgetown SC 
	29440
GEO:33.3498817;-79.2926366
END:VEVENT
END:VCALENDAR